BEGIN:VCALENDAR
VERSION:2.0
PRODID:\"Vet na Rua\" no Parque das Nações
X-WR-CALNAME:\"Vet na Rua\" no Parque das Nações
X-WR-TIMEZONE:Europe/Lisbon
X-PUBLISHED-TTL:P1W
BEGIN:VTIMEZONE
TZID:Europe/Lisbon
X-LIC-LOCATION:Europe/Lisbon
END:VTIMEZONE
BEGIN:VEVENT
UID:69e7316f775a6
DTSTART;VALUE=DATE:20250428
SEQUENCE:0
TRANSP:OPAQUE
DTEND;VALUE=DATE:20250429
SUMMARY:\"Vet na Rua\" no Parque das Nações
CLASS:PUBLIC
DESCRIPTION:O \"Vet na Rua\"\, parceria entre JFPN e a Animalife – A cria
 r histórias felizes\, estará no Parque das Nações para as consultas do
  mês de abril\, no Espaço Nascente\, entre as 14h30 e as 17h00 de dia 28
 \, tanto para atendimento social animal\, como para atendimento profiláti
 co.Este projeto está presente na Freguesia todos os meses e pretende asse
 gurar às famílias mais carenciadas da freguesia\, os serviços médico-v
 eterinários dirigidos aos seus animais de estimação.Para beneficiar des
 te serviço envie um e-mail para social@jf-parquedasnacoes.pt ou dirija-se
  aos serviços de atendimento: sede - Alameda dos Oceanos\, n.º 37 B ou d
 elegação poente - Rua Padre Joaquim Alves Correia\, Lote 23\, das 9h00 
 às 17h00.#JFPN #JFParqueDasNacoes #Animalife #VetNaRua #Lisboa #BemEstarA
 nimal
X-MICROSOFT-CDO-ALLDAYEVENT:TRUE
DTSTAMP:20260421T081231Z
END:VEVENT
END:VCALENDAR