BEGIN:VCALENDAR
VERSION:2.0
PRODID:Clube de Leitura - Poesia
X-WR-CALNAME:Clube de Leitura - Poesia
X-WR-TIMEZONE:Europe/Lisbon
X-PUBLISHED-TTL:P1W
BEGIN:VTIMEZONE
TZID:Europe/Lisbon
X-LIC-LOCATION:Europe/Lisbon
END:VTIMEZONE
BEGIN:VEVENT
UID:69e71c2a9032d
DTSTART;VALUE=DATE:20260127
SEQUENCE:0
TRANSP:OPAQUE
DTEND;VALUE=DATE:20260128
SUMMARY:Clube de Leitura - Poesia
CLASS:PUBLIC
DESCRIPTION:O&nbsp\;Clube de Leitura do mês de janeiro é dedicado à “P
 oesia” e como tal vai realizar-se uma tertúlia no dia 27 de janeiro de 
 2026\, na Biblioteca David Mourão-Ferreira das 17h30 às 19h30\, com a mo
 deração de David Aboim e Diogo Santos.Inscrições&nbsp\;aqui#clubedelei
 tura&nbsp\;#jfpn&nbsp\;#jfparquedasnacoes
X-MICROSOFT-CDO-ALLDAYEVENT:TRUE
DTSTAMP:20260421T064146Z
END:VEVENT
END:VCALENDAR