BEGIN:VCALENDAR
VERSION:2.0
PRODID:Última jornada CCL em Campo de Ourique
X-WR-CALNAME:Última jornada CCL em Campo de Ourique
X-WR-TIMEZONE:Europe/Lisbon
X-PUBLISHED-TTL:P1W
BEGIN:VTIMEZONE
TZID:Europe/Lisbon
X-LIC-LOCATION:Europe/Lisbon
END:VTIMEZONE
BEGIN:VEVENT
UID:69ea09e6da6d4
DTSTART;VALUE=DATE:20260426
SEQUENCE:0
TRANSP:OPAQUE
DTEND;VALUE=DATE:20260427
SUMMARY:Última jornada CCL em Campo de Ourique
CLASS:PUBLIC
DESCRIPTION:A sexta jornada CCL Liga de Ouro fecha a época e realiza-se no
  domingo\, dia 26 de abril\, na Rua Quinta do Loureiro – traseiras entre
  o lote 3 e 4\, Campo de Ourique.Às 9h30\, entram em campo os “Lisboa
 ” vs “Inter Marvilense\"\, logo seguidos dos “Alto do Lumiar” com 
 os “Young Birds”\, às 10h30. A fechar com chave de ouro os nossos “
 C. Juniores PN\" alinham com “Os Carnideenses”\, às 11h30.Convidamos 
 todos os @seguidores a assistir à última jornada da época\, onde\, uma 
 vez mais\, serão proporcionados bons momentos desportivos\, onde o rei é
  o fair play.Estas jornadas são o resultado de uma parceria entre a Funda
 ção Benfica e a GEBALIS com o apoio dos promotores locais.Venha apoiar o
  desporto e os nossos jovens!#fundaçãobenfica&nbsp\;#gebalis&nbsp\;#JFPN
 &nbsp\;#JFparquedasnacoes&nbsp\;#communitychampionsleague&nbsp\;
X-MICROSOFT-CDO-ALLDAYEVENT:TRUE
DTSTAMP:20260423T120038Z
END:VEVENT
END:VCALENDAR