BEGIN:VCALENDAR
VERSION:2.0
PRODID:Ciclo Literatura e Cinema traz “O Perfume”
X-WR-CALNAME:Ciclo Literatura e Cinema traz “O Perfume”
X-WR-TIMEZONE:Europe/Lisbon
X-PUBLISHED-TTL:P1W
BEGIN:VTIMEZONE
TZID:Europe/Lisbon
X-LIC-LOCATION:Europe/Lisbon
END:VTIMEZONE
BEGIN:VEVENT
UID:69e6e5e0f1ab0
DTSTART;VALUE=DATE:20250325
SEQUENCE:0
TRANSP:OPAQUE
DTEND;VALUE=DATE:20250326
SUMMARY:Ciclo Literatura e Cinema traz “O Perfume”
CLASS:PUBLIC
DESCRIPTION:O Clube de Leitura de março traz à Biblioteca David Mourão-F
 erreira\, a 25 e 27 de março de 2025\, uma das obras mais fascinantes do 
 século XX. “O Perfume”\, do escritor alemão Patrick Süskind\, desde
  o seu lançamento em 1985\, foi traduzido em 42 línguas e vendeu mais de
  19 milhões de exemplares\, tornando-o um dos mais importantes livros de 
 ficção da história\, que inspirou a longa metragem com o mesmo nome\, e
 m 2006.Esta edição do Clube de Leitura convida ao visionamento do filme 
 e à tertúlia. Ambas as sessões decorrem das 17h30 às 19h30 sendo a pri
 meira dedicada à projeção do filme e a segunda à tertúlia\, ambas mod
 eradas por David Aboim\, Diogo Santos e Tatiana Pereira. e são moderadas 
 por David Aboim\, Diogo Santos e Tatiana Pereira.A entrada é livre\, suje
 ita à lotação da sala\, sendo que para participarem\, os interessados t
 erão de se inscrever nas duas sessões aqui.#clubedeleitura #literaturaec
 inema #operfume #patricksuskind #bdmf #bibliotecadavidmouraoferreira #parq
 uedasnacoes #lisboa
X-MICROSOFT-CDO-ALLDAYEVENT:TRUE
DTSTAMP:20260421T025008Z
END:VEVENT
END:VCALENDAR