BEGIN:VCALENDAR
VERSION:2.0
PRODID:“O Rapaz do Pijama às Riscas” de John Boyne no Ciclo Literatura
  e Cinema.
X-WR-CALNAME:“O Rapaz do Pijama às Riscas” de John Boyne no Ciclo Lite
 ratura e Cinema.
X-WR-TIMEZONE:Europe/Lisbon
X-PUBLISHED-TTL:P1W
BEGIN:VTIMEZONE
TZID:Europe/Lisbon
X-LIC-LOCATION:Europe/Lisbon
END:VTIMEZONE
BEGIN:VEVENT
UID:69e633889b986
DTSTART;VALUE=DATE:20250624
SEQUENCE:0
TRANSP:OPAQUE
DTEND;VALUE=DATE:20250625
SUMMARY:“O Rapaz do Pijama às Riscas” de John Boyne no Ciclo Literatur
 a e Cinema.
CLASS:PUBLIC
DESCRIPTION:O Clube de Leitura de junho traz à Biblioteca David Mourão-Fe
 rreira\, a 24 e 26 de junho de 2025\, o escritor irlandês John Boyne.A ob
 ra “O Rapaz do Pijama às Riscas” vendeu sete milhões de exemplares e
  foi adaptada ao cinema em 2008. Este livro chegou ainda a ser o número d
 ois\, na lista de best sellers\, do New York Times\, nos Estados Unidos\, 
 Reino Unido\, Irlanda e Austrália.Esta edição do Clube de Leitura convi
 da ao visionamento do filme e à tertúlia. Ambas as sessões decorrem das
  17h30 às 19h30 sendo a primeira dedicada à projeção do filme e a segu
 nda à tertúlia\, ambas moderadas por David Aboim\, Diogo Santos e Tatian
 a Pereira.A entrada é livre\, sujeita à lotação da sala. Para particip
 ar\, os interessados terão de se inscrever nas duas sessões aqui.#clubed
 eleitura #literaturaecinema #bdmf #bibliotecadavidmouraoferreira #parqueda
 snacoes #lisboa
X-MICROSOFT-CDO-ALLDAYEVENT:TRUE
DTSTAMP:20260420T140912Z
END:VEVENT
END:VCALENDAR