BEGIN:VCALENDAR
VERSION:2.0
PRODID:Vagas para expositores na feira franca
X-WR-CALNAME:Vagas para expositores na feira franca
X-WR-TIMEZONE:Europe/Lisbon
X-PUBLISHED-TTL:P1W
BEGIN:VTIMEZONE
TZID:Europe/Lisbon
X-LIC-LOCATION:Europe/Lisbon
END:VTIMEZONE
BEGIN:VEVENT
UID:69ea21bead015
DTSTART;VALUE=DATE:20260523
SEQUENCE:0
TRANSP:OPAQUE
DTEND;VALUE=DATE:20260524
SUMMARY:Vagas para expositores na feira franca
CLASS:PUBLIC
DESCRIPTION:Estão abertas as inscrições para quem deseje expor e vender 
 os seus produtos na próxima Feira Franca do Vizinho\, que se irá realiza
 r no próximo dia 23 de maio no Polidesportivo do Casal dos Machados\, e 
 é organizada pela rede comunitária L&amp\;M.As inscrições devem ser fe
 itas presencialmente no Olipandó\, no Largo Ramada Curto\, Lt.5\, loja B\
 , de segunda a sexta-feira\, entre as 10h30 e as 12h30 e terminam quando s
 e esgotarem as vagas disponíveis. #feirafranca #parquedasnações #olipan
 dó #quintadaslaranjeiras
X-MICROSOFT-CDO-ALLDAYEVENT:TRUE
DTSTAMP:20260423T134222Z
END:VEVENT
END:VCALENDAR