BEGIN:VCALENDAR
VERSION:2.0
PRODID:Filipa Fonseca Silva no Chá com Livros
X-WR-CALNAME:Filipa Fonseca Silva no Chá com Livros
X-WR-TIMEZONE:Europe/Lisbon
X-PUBLISHED-TTL:P1W
BEGIN:VTIMEZONE
TZID:Europe/Lisbon
X-LIC-LOCATION:Europe/Lisbon
END:VTIMEZONE
BEGIN:VEVENT
UID:69e9e06fcdf6d
DTSTART;VALUE=DATE:20260422
SEQUENCE:0
TRANSP:OPAQUE
DTEND;VALUE=DATE:20260423
SUMMARY:Filipa Fonseca Silva no Chá com Livros
CLASS:PUBLIC
DESCRIPTION:O Chá com Livros de abril\, a tertúlia literária mensal da J
 FPN\, está marcado para dia 22 de abril\, quarta-feira\, e terá como con
 vidada a escritora Filipa Fonseca Silva\, no espaço Esplanando\, pelas 18
 h.Filipa Fonseca Silva nasceu no Barreiro em 1979\, foi fundadora do Clube
  das Mulheres Escritoras e é uma das escritoras mais multifacetadas da at
 ualidade com mais de 10 livros publicados e três em processo de adaptaç
 ão cinematográfica. Acabou de lançar o romance \"A Mulher por Detrás d
 a Parede\".Contamos consigo para mais uma conversa de fim de tarde à volt
 a dos livros.
X-MICROSOFT-CDO-ALLDAYEVENT:TRUE
DTSTAMP:20260423T090343Z
END:VEVENT
END:VCALENDAR