BEGIN:VCALENDAR
VERSION:2.0
PRODID:“Chá com livros” convida Maria João Fialho Gouveia
X-WR-CALNAME:“Chá com livros” convida Maria João Fialho Gouveia
X-WR-TIMEZONE:Europe/Lisbon
X-PUBLISHED-TTL:P1W
BEGIN:VTIMEZONE
TZID:Europe/Lisbon
X-LIC-LOCATION:Europe/Lisbon
END:VTIMEZONE
BEGIN:VEVENT
UID:69e733378cf92
DTSTART;VALUE=DATE:20250219
SEQUENCE:0
TRANSP:OPAQUE
DTEND;VALUE=DATE:20250220
SUMMARY:“Chá com livros” convida Maria João Fialho Gouveia
CLASS:PUBLIC
DESCRIPTION:Em fevereiro\, dia 19\, a tertúlia “Chá com livros”\, tra
 z consigo a jornalista\, escritora e professora\, Maria João Fialho Gouve
 ia\, às 18 horas\, no café Esplanando com a moderação de Diogo Santos.
 Jornalista há quase 40 anos\, tirou o curso de Comunicação Social\, Lí
 nguas e agora História\, tendo passado por várias áreas da imprensa. Ho
 je confessa ter abraçado a literatura\, definindo a “aventura da escrit
 a como uma doce e viciante solidão que lhe completa a alma”.Na próxima
  tertúlia a autora traz até nós “A Última Imperatriz” o seu livro 
 mais recente\, dos 11 que já publicou\, e espera por todos para uma anima
 da conversa.Apareça!
X-MICROSOFT-CDO-ALLDAYEVENT:TRUE
DTSTAMP:20260421T082007Z
END:VEVENT
END:VCALENDAR