BEGIN:VCALENDAR
VERSION:2.0
PRODID:Desafio EcoFit Famílias 2026 pela preservação ambiental
X-WR-CALNAME:Desafio EcoFit Famílias 2026 pela preservação ambiental
X-WR-TIMEZONE:Europe/Lisbon
X-PUBLISHED-TTL:P1W
BEGIN:VTIMEZONE
TZID:Europe/Lisbon
X-LIC-LOCATION:Europe/Lisbon
END:VTIMEZONE
BEGIN:VEVENT
UID:69e732ed1809d
DTSTART;VALUE=DATE:20260517
SEQUENCE:0
TRANSP:OPAQUE
DTEND;VALUE=DATE:20260518
SUMMARY:Desafio EcoFit Famílias 2026 pela preservação ambiental
CLASS:PUBLIC
DESCRIPTION:A JFPN acaba de lançar o desafio EcoFit Famílias 2026\, um jo
 go que convida à reflexão e à ação\, sublinhando a importância da su
 stentabilidade ambiental. 
X-MICROSOFT-CDO-ALLDAYEVENT:TRUE
DTSTAMP:20260421T081853Z
END:VEVENT
END:VCALENDAR