BEGIN:VCALENDAR
VERSION:2.0
PRODID:Final de tarde musical dia 8 junto ao Tejo
X-WR-CALNAME:Final de tarde musical dia 8 junto ao Tejo
X-WR-TIMEZONE:Europe/Lisbon
X-PUBLISHED-TTL:P1W
BEGIN:VTIMEZONE
TZID:Europe/Lisbon
X-LIC-LOCATION:Europe/Lisbon
END:VTIMEZONE
BEGIN:VEVENT
UID:69ea3732b78be
DTSTART;VALUE=DATE:20260508
SEQUENCE:0
TRANSP:OPAQUE
DTEND;VALUE=DATE:20260509
SUMMARY:Final de tarde musical dia 8 junto ao Tejo
CLASS:PUBLIC
DESCRIPTION:o dia 8 de maio\, sexta-feira\, o final de tarde junto ao Tejo\
 , a partir das 18h\, será muito musical\, com a atuação da banda Rock '
 Volt' no café Esplanando\, numa iniciativa organizada pela JFPN.Estão @t
 odos convidados #jfpn #parquedasnações #esplanando #concertovolt
X-MICROSOFT-CDO-ALLDAYEVENT:TRUE
DTSTAMP:20260423T151354Z
END:VEVENT
END:VCALENDAR