BEGIN:VCALENDAR
VERSION:2.0
PRODID:Rentrée Cultural
X-WR-CALNAME:Rentrée Cultural
X-WR-TIMEZONE:Europe/Lisbon
X-PUBLISHED-TTL:P1W
BEGIN:VTIMEZONE
TZID:Europe/Lisbon
X-LIC-LOCATION:Europe/Lisbon
END:VTIMEZONE
BEGIN:VEVENT
UID:69ecf922783b3
DTSTART;VALUE=DATE:20241004
SEQUENCE:0
TRANSP:OPAQUE
DTEND;VALUE=DATE:20241005
SUMMARY:Rentrée Cultural
CLASS:PUBLIC
DESCRIPTION:Rentrée Cultural remarcada para 4\, 5 e 6 de outubroA Rentrée
  Cultural do Parque das Nações está marcada para os dias 4\, 5 e 6 de o
 utubro. Os eventos vão realizar-se junto à Casa do Arboreto.Entre eles d
 estacamos na sexta-feira o concerto com os 4Revival Band\, que prometem p
 ôr toda a gente a mexer. No sábado\, prepare-se para uma Silent Party\, 
 com os DJ Macedo e Cláudio T e domingo\, por excelência dedicado às fam
 ílias\, é dia de saltar nos Insufláveis e experimentar jogos&nbsp\;trad
 icionais\, entre outras atividades.Pode consultar o programa completo aqui
 &nbsp\;bit.ly/Cultura2425Será um fim de semana em grande e com entrada li
 vre!Esperamos por todos!Localização&nbsp\;aqui
X-MICROSOFT-CDO-ALLDAYEVENT:TRUE
DTSTAMP:20260425T172554Z
END:VEVENT
END:VCALENDAR