BEGIN:VCALENDAR
VERSION:2.0
PRODID:Abertas as candidaturas para as Marchas Infantis Escolas de Lisboa
X-WR-CALNAME:Abertas as candidaturas para as Marchas Infantis Escolas de Li
 sboa
X-WR-TIMEZONE:Europe/Lisbon
X-PUBLISHED-TTL:P1W
BEGIN:VTIMEZONE
TZID:Europe/Lisbon
X-LIC-LOCATION:Europe/Lisbon
END:VTIMEZONE
BEGIN:VEVENT
UID:69eccf8b4d51c
DTSTART;VALUE=DATE:20260304
SEQUENCE:0
TRANSP:OPAQUE
DTEND;VALUE=DATE:20260305
SUMMARY:Abertas as candidaturas para as Marchas Infantis Escolas de Lisboa
CLASS:PUBLIC
DESCRIPTION:Estão abertas as candidaturas para a participação nas Marcha
 s Infantis de Lisboa\, organizadas pela CML\, que este ano terão como tem
 a “Somos Lisboa\, somos Europa”.A Junta de Freguesia Parque das Naçõ
 es irá participar nesta iniciativa\, no âmbito das AAAF/CAF\, e conta co
 m a ajuda do projeto BIP/ZIP 'Faço p'Arte' para a elaboração dos fatos\
 , pela designer de moda Luísa Salvado\, recém-licenciada da FAUL.Os Pais
 /Encarregados de Educação dos alunos que desejam participar podem inscre
 ver os seus filhos/educandos até dia 20 de março\, através do link:&nbs
 p\;bit.ly/MIEL2026&nbsp\;e devem assumir o compromisso para estarem presen
 tes nos ensaios e na atuação final\, prevista para dia 20 de junho\, na 
 Alameda D. Afonso Henriques\, Areeiro\, Lisboa.
X-MICROSOFT-CDO-ALLDAYEVENT:TRUE
DTSTAMP:20260425T142827Z
END:VEVENT
END:VCALENDAR