BEGIN:VCALENDAR
VERSION:2.0
PRODID:Atividades na pausa letiva da Páscoa
X-WR-CALNAME:Atividades na pausa letiva da Páscoa
X-WR-TIMEZONE:Europe/Lisbon
X-PUBLISHED-TTL:P1W
BEGIN:VTIMEZONE
TZID:Europe/Lisbon
X-LIC-LOCATION:Europe/Lisbon
END:VTIMEZONE
BEGIN:VEVENT
UID:69eccc7c7af04
DTSTART;VALUE=DATE:20260302
SEQUENCE:0
TRANSP:OPAQUE
DTEND;VALUE=DATE:20260303
SUMMARY:Atividades na pausa letiva da Páscoa
CLASS:PUBLIC
DESCRIPTION:As inscrições para a interrupção letiva da Páscoa nas AAAF
 /CAF em Férias e no Parque em Movimento podem ser feitas&nbsp\; até 15 d
 e março de 2026. A interrupção letiva da Páscoa irá decorrer entre 30
  de março e 10 de abril.As inscrições para as AAAF/CAF (JI e 1.º Ciclo
 ) deverão ser feitas na área de candidaturas da plataforma SIGA.&nbsp\;O
 s EE que desejem inscrever os seus educandos no \"Parque em Movimento\" (2
 .º\, 3.º e secundário) devem preencher o formulário para esse efeito d
 isponibilizado no site da JFPN.&nbsp\;As inscrições chegadas fora de pra
 zo\, de acordo com o regulamento em vigor\, ficam sujeitas à aplicação 
 de uma coima no valor de 50\,00 euros\, pelo que solicitamos\, a colabora
 ção de todos os EE\, para o cumprimento dos prazos.AAAF/CAF&nbsp\;Parque
  em movimento&nbsp\;Para mais informações poderá enviar um e-mail para 
 educacao@jf-parquedasnacoes.pt.
X-MICROSOFT-CDO-ALLDAYEVENT:TRUE
DTSTAMP:20260425T141524Z
END:VEVENT
END:VCALENDAR